BEGIN:VCALENDAR
VERSION:2.0
PRODID:-//Oswayo Valley Memorial Library - ECPv6.8.3//NONSGML v1.0//EN
CALSCALE:GREGORIAN
METHOD:PUBLISH
X-ORIGINAL-URL:https://ovmlibrary.org
X-WR-CALDESC:Events for Oswayo Valley Memorial Library
REFRESH-INTERVAL;VALUE=DURATION:PT1H
X-Robots-Tag:noindex
X-PUBLISHED-TTL:PT1H
BEGIN:VTIMEZONE
TZID:America/New_York
BEGIN:DAYLIGHT
TZOFFSETFROM:-0500
TZOFFSETTO:-0400
TZNAME:EDT
DTSTART:20260308T070000
END:DAYLIGHT
BEGIN:STANDARD
TZOFFSETFROM:-0400
TZOFFSETTO:-0500
TZNAME:EST
DTSTART:20261101T060000
END:STANDARD
END:VTIMEZONE
BEGIN:VEVENT
DTSTART;VALUE=DATE:20260419
DTEND;VALUE=DATE:20260426
DTSTAMP:20260424T152413
CREATED:20260401T203617Z
LAST-MODIFIED:20260401T203617Z
UID:10002783-1776556800-1777161599@ovmlibrary.org
SUMMARY:National Library Week
DESCRIPTION:“Find Your Joy” at Oswayo Valley Memorial Library during National Library Week\, April 19th – 25th! Stop in during that week for a basket raffle\, daily giveaways\, find your next read\, learn about upcoming programs\, and more! We appreciate your continued support of us and all libraries!
URL:https://ovmlibrary.org/event/national-library-week/
LOCATION:Oswayo Valley Memorial Library\, 103 N. Pleasant St.\, Shinglehouse\, PA\, 16748\, United States
ORGANIZER;CN="OVML":MAILTO:ovmlibrary@gmail.com
END:VEVENT
BEGIN:VEVENT
DTSTART;VALUE=DATE:20260421
DTEND;VALUE=DATE:20260426
DTSTAMP:20260424T152413
CREATED:20260421T162823Z
LAST-MODIFIED:20260421T162823Z
UID:10002792-1776729600-1777161599@ovmlibrary.org
SUMMARY:Basket Raffle
DESCRIPTION:The library is having a small basket raffle during National Library Week! Tickets are $5.00 for a sheet of 25 (+1 bonus\, door prize stub can also be used). The raffle will run from Tuesday\, April 21st – Saturday\, April 25th.
URL:https://ovmlibrary.org/event/basket-raffle/
LOCATION:Oswayo Valley Memorial Library\, 103 N. Pleasant St.\, Shinglehouse\, PA\, 16748\, United States
ORGANIZER;CN="OVML":MAILTO:ovmlibrary@gmail.com
END:VEVENT
BEGIN:VEVENT
DTSTART;TZID=America/New_York:20260424T100000
DTEND;TZID=America/New_York:20260424T103000
DTSTAMP:20260424T152413
CREATED:20240426T150754Z
LAST-MODIFIED:20260331T164846Z
UID:10001601-1777024800-1777026600@ovmlibrary.org
SUMMARY:Daycare Storytime
DESCRIPTION:Join us at the library on Friday mornings at 10:00 for storytime and a craft or game. This is suggested for children aged 0-5 years old. We hope to see you there!
URL:https://ovmlibrary.org/event/daycare-story-hour/2026-04-24/
LOCATION:Oswayo Valley Memorial Library\, 103 N. Pleasant St.\, Shinglehouse\, PA\, 16748\, United States
ORGANIZER;CN="OVML":MAILTO:ovmlibrary@gmail.com
END:VEVENT
BEGIN:VEVENT
DTSTART;TZID=America/New_York:20260425T100000
DTEND;TZID=America/New_York:20260425T120000
DTSTAMP:20260424T152413
CREATED:20260331T195236Z
LAST-MODIFIED:20260407T172535Z
UID:10002777-1777111200-1777118400@ovmlibrary.org
SUMMARY:What's the Stitch? Beginner Cross-Stitch Class
DESCRIPTION:Join us on Saturday\, April 25th\, at 10:00 am OR Tuesday\, April 28th\, at 6:00 pm for What’s the Stitch?: A Beginner’s Cross-stitch Class! Project choices are either a heart\, a flag\, or your initial. Limited seating is available for each day\, and the deadline to sign up is Wednesday\, April 15th. The cost is $30.00 per person. \n 
URL:https://ovmlibrary.org/event/whats-the-stitch-beginner-cross-stitch-class/2026-04-25/
LOCATION:Oswayo Valley Memorial Library\, 103 N. Pleasant St.\, Shinglehouse\, PA\, 16748\, United States
ORGANIZER;CN="OVML":MAILTO:ovmlibrary@gmail.com
END:VEVENT
BEGIN:VEVENT
DTSTART;TZID=America/New_York:20260428T180000
DTEND;TZID=America/New_York:20260428T200000
DTSTAMP:20260424T152413
CREATED:20260331T195236Z
LAST-MODIFIED:20260407T172535Z
UID:10002778-1777399200-1777406400@ovmlibrary.org
SUMMARY:What's the Stitch? Beginner Cross-Stitch Class
DESCRIPTION:Join us on Saturday\, April 25th\, at 10:00 am OR Tuesday\, April 28th\, at 6:00 pm for What’s the Stitch?: A Beginner’s Cross-stitch Class! Project choices are either a heart\, a flag\, or your initial. Limited seating is available for each day\, and the deadline to sign up is Wednesday\, April 15th. The cost is $30.00 per person. \n 
URL:https://ovmlibrary.org/event/whats-the-stitch-beginner-cross-stitch-class/2026-04-28/
LOCATION:Oswayo Valley Memorial Library\, 103 N. Pleasant St.\, Shinglehouse\, PA\, 16748\, United States
ORGANIZER;CN="OVML":MAILTO:ovmlibrary@gmail.com
END:VEVENT
BEGIN:VEVENT
DTSTART;TZID=America/New_York:20260430T133000
DTEND;TZID=America/New_York:20260430T150000
DTSTAMP:20260424T152413
CREATED:20250930T204908Z
LAST-MODIFIED:20260331T195805Z
UID:10002782-1777555800-1777561200@ovmlibrary.org
SUMMARY:Stitch Together
DESCRIPTION:Join us on Thursdays and Saturdays with your hook and needlecraft projects starting at 1:30 pm!
URL:https://ovmlibrary.org/event/stitch-together-5/2026-04-30/
LOCATION:Oswayo Valley Memorial Library\, 103 N. Pleasant St.\, Shinglehouse\, PA\, 16748\, United States
ORGANIZER;CN="OVML":MAILTO:ovmlibrary@gmail.com
END:VEVENT
END:VCALENDAR